BEGIN:VCALENDAR
VERSION:2.0
PRODID:https://www.kufer.de/kuferweb / DE
METHOD:PUBLISH
CALSCALE:GREGORIAN
X-WR-TIMEZONE:Europe/Berlin
BEGIN:VTIMEZONE
TZID:Europe/Berlin
X-LIC-LOCATION:Europe/Berlin
BEGIN:DAYLIGHT
TZOFFSETFROM:+0100
TZOFFSETTO:+0200
TZNAME:CEST
DTSTART:19700329T020000
RRULE:FREQ=YEARLY;INTERVAL=1;BYDAY=-1SU;BYMONTH=3
END:DAYLIGHT
BEGIN:STANDARD
TZOFFSETFROM:+0200
TZOFFSETTO:+0100
TZNAME:CET
DTSTART:19701025T030000
RRULE:FREQ=YEARLY;INTERVAL=1;BYDAY=-1SU;BYMONTH=10
END:STANDARD
END:VTIMEZONE
BEGIN:VEVENT
DTSTAMP:20260419T170717
DTSTART;TZID=Europe/Berlin:20260414T181500
DTEND;TZID=Europe/Berlin:20260414T190000
UID:26-32304D-20260414T181500@VHSDORTMUND
SUMMARY:English A2+ Conversation - Onlinekurs (26-32304D) 
LOCATION:vhs.online
END:VEVENT
BEGIN:VEVENT
DTSTAMP:20260419T170717
DTSTART;TZID=Europe/Berlin:20260421T181500
DTEND;TZID=Europe/Berlin:20260421T190000
UID:26-32304D-20260421T181500@VHSDORTMUND
SUMMARY:English A2+ Conversation - Onlinekurs (26-32304D) 
LOCATION:vhs.online
END:VEVENT
BEGIN:VEVENT
DTSTAMP:20260419T170717
DTSTART;TZID=Europe/Berlin:20260428T181500
DTEND;TZID=Europe/Berlin:20260428T190000
UID:26-32304D-20260428T181500@VHSDORTMUND
SUMMARY:English A2+ Conversation - Onlinekurs (26-32304D) 
LOCATION:vhs.online
END:VEVENT
BEGIN:VEVENT
DTSTAMP:20260419T170717
DTSTART;TZID=Europe/Berlin:20260505T181500
DTEND;TZID=Europe/Berlin:20260505T190000
UID:26-32304D-20260505T181500@VHSDORTMUND
SUMMARY:English A2+ Conversation - Onlinekurs (26-32304D) 
LOCATION:vhs.online
END:VEVENT
BEGIN:VEVENT
DTSTAMP:20260419T170717
DTSTART;TZID=Europe/Berlin:20260512T181500
DTEND;TZID=Europe/Berlin:20260512T190000
UID:26-32304D-20260512T181500@VHSDORTMUND
SUMMARY:English A2+ Conversation - Onlinekurs (26-32304D) 
LOCATION:vhs.online
END:VEVENT
BEGIN:VEVENT
DTSTAMP:20260419T170717
DTSTART;TZID=Europe/Berlin:20260519T181500
DTEND;TZID=Europe/Berlin:20260519T190000
UID:26-32304D-20260519T181500@VHSDORTMUND
SUMMARY:English A2+ Conversation - Onlinekurs (26-32304D) 
LOCATION:vhs.online
END:VEVENT
BEGIN:VEVENT
DTSTAMP:20260419T170717
DTSTART;TZID=Europe/Berlin:20260602T181500
DTEND;TZID=Europe/Berlin:20260602T190000
UID:26-32304D-20260602T181500@VHSDORTMUND
SUMMARY:English A2+ Conversation - Onlinekurs (26-32304D) 
LOCATION:vhs.online
END:VEVENT
BEGIN:VEVENT
DTSTAMP:20260419T170717
DTSTART;TZID=Europe/Berlin:20260609T181500
DTEND;TZID=Europe/Berlin:20260609T190000
UID:26-32304D-20260609T181500@VHSDORTMUND
SUMMARY:English A2+ Conversation - Onlinekurs (26-32304D) 
LOCATION:vhs.online
END:VEVENT
BEGIN:VEVENT
DTSTAMP:20260419T170717
DTSTART;TZID=Europe/Berlin:20260616T181500
DTEND;TZID=Europe/Berlin:20260616T190000
UID:26-32304D-20260616T181500@VHSDORTMUND
SUMMARY:English A2+ Conversation - Onlinekurs (26-32304D) 
LOCATION:vhs.online
END:VEVENT
BEGIN:VEVENT
DTSTAMP:20260419T170717
DTSTART;TZID=Europe/Berlin:20260623T181500
DTEND;TZID=Europe/Berlin:20260623T190000
UID:26-32304D-20260623T181500@VHSDORTMUND
SUMMARY:English A2+ Conversation - Onlinekurs (26-32304D) 
LOCATION:vhs.online
END:VEVENT
BEGIN:VEVENT
DTSTAMP:20260419T170717
DTSTART;TZID=Europe/Berlin:20260630T181500
DTEND;TZID=Europe/Berlin:20260630T190000
UID:26-32304D-20260630T181500@VHSDORTMUND
SUMMARY:English A2+ Conversation - Onlinekurs (26-32304D) 
LOCATION:vhs.online
END:VEVENT
BEGIN:VEVENT
DTSTAMP:20260419T170717
DTSTART;TZID=Europe/Berlin:20260707T181500
DTEND;TZID=Europe/Berlin:20260707T190000
UID:26-32304D-20260707T181500@VHSDORTMUND
SUMMARY:English A2+ Conversation - Onlinekurs (26-32304D) 
LOCATION:vhs.online
END:VEVENT
END:VCALENDAR