BEGIN:VCALENDAR
VERSION:2.0
PRODID:https://www.kufer.de/kuferweb / DE
METHOD:PUBLISH
CALSCALE:GREGORIAN
X-WR-TIMEZONE:Europe/Berlin
BEGIN:VTIMEZONE
TZID:Europe/Berlin
X-LIC-LOCATION:Europe/Berlin
BEGIN:DAYLIGHT
TZOFFSETFROM:+0100
TZOFFSETTO:+0200
TZNAME:CEST
DTSTART:19700329T020000
RRULE:FREQ=YEARLY;INTERVAL=1;BYDAY=-1SU;BYMONTH=3
END:DAYLIGHT
BEGIN:STANDARD
TZOFFSETFROM:+0200
TZOFFSETTO:+0100
TZNAME:CET
DTSTART:19701025T030000
RRULE:FREQ=YEARLY;INTERVAL=1;BYDAY=-1SU;BYMONTH=10
END:STANDARD
END:VTIMEZONE
BEGIN:VEVENT
DTSTAMP:20260422T154959
DTSTART;TZID=Europe/Berlin:20261026T093000
DTEND;TZID=Europe/Berlin:20261026T143000
UID:26-37904D-20261026T093000@VHSDORTMUND
SUMMARY:Bildungsurlaub: Italienisch mit Vorkenntnissen (A1.2) (26-37904D) 
LOCATION:VHS Löwenhof, Hansastr. 2 - 4, 44137 Dortmund
END:VEVENT
BEGIN:VEVENT
DTSTAMP:20260422T154959
DTSTART;TZID=Europe/Berlin:20261027T093000
DTEND;TZID=Europe/Berlin:20261027T143000
UID:26-37904D-20261027T093000@VHSDORTMUND
SUMMARY:Bildungsurlaub: Italienisch mit Vorkenntnissen (A1.2) (26-37904D) 
LOCATION:VHS Löwenhof, Hansastr. 2 - 4, 44137 Dortmund
END:VEVENT
BEGIN:VEVENT
DTSTAMP:20260422T154959
DTSTART;TZID=Europe/Berlin:20261028T093000
DTEND;TZID=Europe/Berlin:20261028T143000
UID:26-37904D-20261028T093000@VHSDORTMUND
SUMMARY:Bildungsurlaub: Italienisch mit Vorkenntnissen (A1.2) (26-37904D) 
LOCATION:VHS Löwenhof, Hansastr. 2 - 4, 44137 Dortmund
END:VEVENT
BEGIN:VEVENT
DTSTAMP:20260422T154959
DTSTART;TZID=Europe/Berlin:20261029T093000
DTEND;TZID=Europe/Berlin:20261029T143000
UID:26-37904D-20261029T093000@VHSDORTMUND
SUMMARY:Bildungsurlaub: Italienisch mit Vorkenntnissen (A1.2) (26-37904D) 
LOCATION:VHS Löwenhof, Hansastr. 2 - 4, 44137 Dortmund
END:VEVENT
BEGIN:VEVENT
DTSTAMP:20260422T154959
DTSTART;TZID=Europe/Berlin:20261030T093000
DTEND;TZID=Europe/Berlin:20261030T143000
UID:26-37904D-20261030T093000@VHSDORTMUND
SUMMARY:Bildungsurlaub: Italienisch mit Vorkenntnissen (A1.2) (26-37904D) 
LOCATION:VHS Löwenhof, Hansastr. 2 - 4, 44137 Dortmund
END:VEVENT
END:VCALENDAR