BEGIN:VCALENDAR
VERSION:2.0
PRODID:https://www.kufer.de/kuferweb / DE
METHOD:PUBLISH
CALSCALE:GREGORIAN
X-WR-TIMEZONE:Europe/Berlin
BEGIN:VTIMEZONE
TZID:Europe/Berlin
X-LIC-LOCATION:Europe/Berlin
BEGIN:DAYLIGHT
TZOFFSETFROM:+0100
TZOFFSETTO:+0200
TZNAME:CEST
DTSTART:19700329T020000
RRULE:FREQ=YEARLY;INTERVAL=1;BYDAY=-1SU;BYMONTH=3
END:DAYLIGHT
BEGIN:STANDARD
TZOFFSETFROM:+0200
TZOFFSETTO:+0100
TZNAME:CET
DTSTART:19701025T030000
RRULE:FREQ=YEARLY;INTERVAL=1;BYDAY=-1SU;BYMONTH=10
END:STANDARD
END:VTIMEZONE
BEGIN:VEVENT
DTSTAMP:20260419T170720
DTSTART;TZID=Europe/Berlin:20260417T090000
DTEND;TZID=Europe/Berlin:20260417T103000
UID:26-38126D-20260417T090000@VHSDORTMUND
SUMMARY:Spanisch B2 Konversation (26-38126D) 
LOCATION:VHS Löwenhof, Raum S236, Hansastr. 2 - 4, 44137 Dortmund
END:VEVENT
BEGIN:VEVENT
DTSTAMP:20260419T170720
DTSTART;TZID=Europe/Berlin:20260424T090000
DTEND;TZID=Europe/Berlin:20260424T103000
UID:26-38126D-20260424T090000@VHSDORTMUND
SUMMARY:Spanisch B2 Konversation (26-38126D) 
LOCATION:VHS Löwenhof, Raum S136b, Hansastr. 2 - 4, 44137 Dortmund
END:VEVENT
BEGIN:VEVENT
DTSTAMP:20260419T170720
DTSTART;TZID=Europe/Berlin:20260508T090000
DTEND;TZID=Europe/Berlin:20260508T103000
UID:26-38126D-20260508T090000@VHSDORTMUND
SUMMARY:Spanisch B2 Konversation (26-38126D) 
LOCATION:VHS Löwenhof, Raum S136b, Hansastr. 2 - 4, 44137 Dortmund
END:VEVENT
BEGIN:VEVENT
DTSTAMP:20260419T170720
DTSTART;TZID=Europe/Berlin:20260515T090000
DTEND;TZID=Europe/Berlin:20260515T103000
UID:26-38126D-20260515T090000@VHSDORTMUND
SUMMARY:Spanisch B2 Konversation (26-38126D) 
LOCATION:VHS Löwenhof, Raum S136b, Hansastr. 2 - 4, 44137 Dortmund
END:VEVENT
BEGIN:VEVENT
DTSTAMP:20260419T170720
DTSTART;TZID=Europe/Berlin:20260522T090000
DTEND;TZID=Europe/Berlin:20260522T103000
UID:26-38126D-20260522T090000@VHSDORTMUND
SUMMARY:Spanisch B2 Konversation (26-38126D) 
LOCATION:VHS Löwenhof, Raum S136b, Hansastr. 2 - 4, 44137 Dortmund
END:VEVENT
BEGIN:VEVENT
DTSTAMP:20260419T170720
DTSTART;TZID=Europe/Berlin:20260529T090000
DTEND;TZID=Europe/Berlin:20260529T103000
UID:26-38126D-20260529T090000@VHSDORTMUND
SUMMARY:Spanisch B2 Konversation (26-38126D) 
LOCATION:VHS Löwenhof, Raum S136b, Hansastr. 2 - 4, 44137 Dortmund
END:VEVENT
BEGIN:VEVENT
DTSTAMP:20260419T170720
DTSTART;TZID=Europe/Berlin:20260605T090000
DTEND;TZID=Europe/Berlin:20260605T103000
UID:26-38126D-20260605T090000@VHSDORTMUND
SUMMARY:Spanisch B2 Konversation (26-38126D) 
LOCATION:VHS Löwenhof, Raum S136b, Hansastr. 2 - 4, 44137 Dortmund
END:VEVENT
BEGIN:VEVENT
DTSTAMP:20260419T170720
DTSTART;TZID=Europe/Berlin:20260612T090000
DTEND;TZID=Europe/Berlin:20260612T103000
UID:26-38126D-20260612T090000@VHSDORTMUND
SUMMARY:Spanisch B2 Konversation (26-38126D) 
LOCATION:VHS Löwenhof, Raum S136b, Hansastr. 2 - 4, 44137 Dortmund
END:VEVENT
BEGIN:VEVENT
DTSTAMP:20260419T170720
DTSTART;TZID=Europe/Berlin:20260619T090000
DTEND;TZID=Europe/Berlin:20260619T103000
UID:26-38126D-20260619T090000@VHSDORTMUND
SUMMARY:Spanisch B2 Konversation (26-38126D) 
LOCATION:VHS Löwenhof, Raum S136b, Hansastr. 2 - 4, 44137 Dortmund
END:VEVENT
BEGIN:VEVENT
DTSTAMP:20260419T170720
DTSTART;TZID=Europe/Berlin:20260626T090000
DTEND;TZID=Europe/Berlin:20260626T103000
UID:26-38126D-20260626T090000@VHSDORTMUND
SUMMARY:Spanisch B2 Konversation (26-38126D) 
LOCATION:VHS Löwenhof, Raum S136b, Hansastr. 2 - 4, 44137 Dortmund
END:VEVENT
BEGIN:VEVENT
DTSTAMP:20260419T170720
DTSTART;TZID=Europe/Berlin:20260703T090000
DTEND;TZID=Europe/Berlin:20260703T103000
UID:26-38126D-20260703T090000@VHSDORTMUND
SUMMARY:Spanisch B2 Konversation (26-38126D) 
LOCATION:VHS Löwenhof, Raum S136b, Hansastr. 2 - 4, 44137 Dortmund
END:VEVENT
BEGIN:VEVENT
DTSTAMP:20260419T170720
DTSTART;TZID=Europe/Berlin:20260710T090000
DTEND;TZID=Europe/Berlin:20260710T103000
UID:26-38126D-20260710T090000@VHSDORTMUND
SUMMARY:Spanisch B2 Konversation (26-38126D) 
LOCATION:VHS Löwenhof, Raum S136b, Hansastr. 2 - 4, 44137 Dortmund
END:VEVENT
END:VCALENDAR