BEGIN:VCALENDAR
VERSION:2.0
PRODID:https://www.kufer.de/kuferweb / DE
METHOD:PUBLISH
CALSCALE:GREGORIAN
X-WR-TIMEZONE:Europe/Berlin
BEGIN:VTIMEZONE
TZID:Europe/Berlin
X-LIC-LOCATION:Europe/Berlin
BEGIN:DAYLIGHT
TZOFFSETFROM:+0100
TZOFFSETTO:+0200
TZNAME:CEST
DTSTART:19700329T020000
RRULE:FREQ=YEARLY;INTERVAL=1;BYDAY=-1SU;BYMONTH=3
END:DAYLIGHT
BEGIN:STANDARD
TZOFFSETFROM:+0200
TZOFFSETTO:+0100
TZNAME:CET
DTSTART:19701025T030000
RRULE:FREQ=YEARLY;INTERVAL=1;BYDAY=-1SU;BYMONTH=10
END:STANDARD
END:VTIMEZONE
BEGIN:VEVENT
DTSTAMP:20260426T011936
DTSTART;TZID=Europe/Berlin:20260509T093000
DTEND;TZID=Europe/Berlin:20260509T123000
UID:26-38146D-20260509T093000@VHSDORTMUND
SUMMARY:Samstagsclub Spanisch B1 (26-38146D) 
LOCATION:VHS Löwenhof, Raum G133a, Hansastr. 2 - 4, 44137 Dortmund
END:VEVENT
BEGIN:VEVENT
DTSTAMP:20260426T011936
DTSTART;TZID=Europe/Berlin:20260516T093000
DTEND;TZID=Europe/Berlin:20260516T123000
UID:26-38146D-20260516T093000@VHSDORTMUND
SUMMARY:Samstagsclub Spanisch B1 (26-38146D) 
LOCATION:VHS Löwenhof, Raum G133a, Hansastr. 2 - 4, 44137 Dortmund
END:VEVENT
BEGIN:VEVENT
DTSTAMP:20260426T011936
DTSTART;TZID=Europe/Berlin:20260530T093000
DTEND;TZID=Europe/Berlin:20260530T123000
UID:26-38146D-20260530T093000@VHSDORTMUND
SUMMARY:Samstagsclub Spanisch B1 (26-38146D) 
LOCATION:VHS Löwenhof, Raum G133a, Hansastr. 2 - 4, 44137 Dortmund
END:VEVENT
BEGIN:VEVENT
DTSTAMP:20260426T011936
DTSTART;TZID=Europe/Berlin:20260613T093000
DTEND;TZID=Europe/Berlin:20260613T123000
UID:26-38146D-20260613T093000@VHSDORTMUND
SUMMARY:Samstagsclub Spanisch B1 (26-38146D) 
LOCATION:VHS Löwenhof, Raum G133a, Hansastr. 2 - 4, 44137 Dortmund
END:VEVENT
BEGIN:VEVENT
DTSTAMP:20260426T011936
DTSTART;TZID=Europe/Berlin:20260620T093000
DTEND;TZID=Europe/Berlin:20260620T123000
UID:26-38146D-20260620T093000@VHSDORTMUND
SUMMARY:Samstagsclub Spanisch B1 (26-38146D) 
LOCATION:VHS Löwenhof, Raum G133a, Hansastr. 2 - 4, 44137 Dortmund
END:VEVENT
END:VCALENDAR