BEGIN:VCALENDAR
VERSION:2.0
PRODID:https://www.kufer.de/kuferweb / DE
METHOD:PUBLISH
CALSCALE:GREGORIAN
X-WR-TIMEZONE:Europe/Berlin
BEGIN:VTIMEZONE
TZID:Europe/Berlin
X-LIC-LOCATION:Europe/Berlin
BEGIN:DAYLIGHT
TZOFFSETFROM:+0100
TZOFFSETTO:+0200
TZNAME:CEST
DTSTART:19700329T020000
RRULE:FREQ=YEARLY;INTERVAL=1;BYDAY=-1SU;BYMONTH=3
END:DAYLIGHT
BEGIN:STANDARD
TZOFFSETFROM:+0200
TZOFFSETTO:+0100
TZNAME:CET
DTSTART:19701025T030000
RRULE:FREQ=YEARLY;INTERVAL=1;BYDAY=-1SU;BYMONTH=10
END:STANDARD
END:VTIMEZONE
BEGIN:VEVENT
DTSTAMP:20260422T224815
DTSTART;TZID=Europe/Berlin:20260706T090000
DTEND;TZID=Europe/Berlin:20260706T143000
UID:26-44052D-20260706T090000@VHSDORTMUND
SUMMARY:Deutsche Gebärdensprache - DGS 3 (26-44052D) 
LOCATION:VHS Kampstraße, Kampstraße 47, 44137 Dortmund
END:VEVENT
BEGIN:VEVENT
DTSTAMP:20260422T224815
DTSTART;TZID=Europe/Berlin:20260707T090000
DTEND;TZID=Europe/Berlin:20260707T143000
UID:26-44052D-20260707T090000@VHSDORTMUND
SUMMARY:Deutsche Gebärdensprache - DGS 3 (26-44052D) 
LOCATION:VHS Kampstraße, Kampstraße 47, 44137 Dortmund
END:VEVENT
BEGIN:VEVENT
DTSTAMP:20260422T224815
DTSTART;TZID=Europe/Berlin:20260708T090000
DTEND;TZID=Europe/Berlin:20260708T143000
UID:26-44052D-20260708T090000@VHSDORTMUND
SUMMARY:Deutsche Gebärdensprache - DGS 3 (26-44052D) 
LOCATION:VHS Kampstraße, Kampstraße 47, 44137 Dortmund
END:VEVENT
BEGIN:VEVENT
DTSTAMP:20260422T224815
DTSTART;TZID=Europe/Berlin:20260709T090000
DTEND;TZID=Europe/Berlin:20260709T143000
UID:26-44052D-20260709T090000@VHSDORTMUND
SUMMARY:Deutsche Gebärdensprache - DGS 3 (26-44052D) 
LOCATION:VHS Kampstraße, Kampstraße 47, 44137 Dortmund
END:VEVENT
BEGIN:VEVENT
DTSTAMP:20260422T224815
DTSTART;TZID=Europe/Berlin:20260710T090000
DTEND;TZID=Europe/Berlin:20260710T143000
UID:26-44052D-20260710T090000@VHSDORTMUND
SUMMARY:Deutsche Gebärdensprache - DGS 3 (26-44052D) 
LOCATION:VHS Kampstraße, Kampstraße 47, 44137 Dortmund
END:VEVENT
END:VCALENDAR