BEGIN:VCALENDAR
VERSION:2.0
PRODID:https://www.kufer.de/kuferweb / DE
METHOD:PUBLISH
CALSCALE:GREGORIAN
X-WR-TIMEZONE:Europe/Berlin
BEGIN:VTIMEZONE
TZID:Europe/Berlin
X-LIC-LOCATION:Europe/Berlin
BEGIN:DAYLIGHT
TZOFFSETFROM:+0100
TZOFFSETTO:+0200
TZNAME:CEST
DTSTART:19700329T020000
RRULE:FREQ=YEARLY;INTERVAL=1;BYDAY=-1SU;BYMONTH=3
END:DAYLIGHT
BEGIN:STANDARD
TZOFFSETFROM:+0200
TZOFFSETTO:+0100
TZNAME:CET
DTSTART:19701025T030000
RRULE:FREQ=YEARLY;INTERVAL=1;BYDAY=-1SU;BYMONTH=10
END:STANDARD
END:VTIMEZONE
BEGIN:VEVENT
DTSTAMP:20260422T122208
DTSTART;TZID=Europe/Berlin:20260801T100000
DTEND;TZID=Europe/Berlin:20260801T150000
UID:26-50201D-20260801T100000@VHSDORTMUND
SUMMARY:Glück, Gelassenheit und Balance – Wege zu einem zufriedenen Leben (26-50201D) 
LOCATION:Haus Mönter-Meyer, Winkelsettener Ring 7, 49196 Bad Laer
END:VEVENT
BEGIN:VEVENT
DTSTAMP:20260422T122208
DTSTART;TZID=Europe/Berlin:20260802T100000
DTEND;TZID=Europe/Berlin:20260802T150000
UID:26-50201D-20260802T100000@VHSDORTMUND
SUMMARY:Glück, Gelassenheit und Balance – Wege zu einem zufriedenen Leben (26-50201D) 
LOCATION:Haus Mönter-Meyer, Winkelsettener Ring 7, 49196 Bad Laer
END:VEVENT
END:VCALENDAR