BEGIN:VCALENDAR
VERSION:2.0
PRODID:https://www.kufer.de/kuferweb / DE
METHOD:PUBLISH
CALSCALE:GREGORIAN
X-WR-TIMEZONE:Europe/Berlin
BEGIN:VTIMEZONE
TZID:Europe/Berlin
X-LIC-LOCATION:Europe/Berlin
BEGIN:DAYLIGHT
TZOFFSETFROM:+0100
TZOFFSETTO:+0200
TZNAME:CEST
DTSTART:19700329T020000
RRULE:FREQ=YEARLY;INTERVAL=1;BYDAY=-1SU;BYMONTH=3
END:DAYLIGHT
BEGIN:STANDARD
TZOFFSETFROM:+0200
TZOFFSETTO:+0100
TZNAME:CET
DTSTART:19701025T030000
RRULE:FREQ=YEARLY;INTERVAL=1;BYDAY=-1SU;BYMONTH=10
END:STANDARD
END:VTIMEZONE
BEGIN:VEVENT
DTSTAMP:20260423T002408
DTSTART;TZID=Europe/Berlin:20260414T184500
DTEND;TZID=Europe/Berlin:20260414T210000
UID:26-54052D-20260414T184500@VHSDORTMUND
SUMMARY:Aktiv in Dortmund / Alles Inklusive? (26-54052D) 
LOCATION:VHS Kampstraße, Raum E.09, Kampstraße 47, 44137 Dortmund
END:VEVENT
BEGIN:VEVENT
DTSTAMP:20260423T002408
DTSTART;TZID=Europe/Berlin:20260421T184500
DTEND;TZID=Europe/Berlin:20260421T210000
UID:26-54052D-20260421T184500@VHSDORTMUND
SUMMARY:Aktiv in Dortmund / Alles Inklusive? (26-54052D) 
LOCATION:VHS Kampstraße, Raum E.09, Kampstraße 47, 44137 Dortmund
END:VEVENT
BEGIN:VEVENT
DTSTAMP:20260423T002408
DTSTART;TZID=Europe/Berlin:20260428T184500
DTEND;TZID=Europe/Berlin:20260428T210000
UID:26-54052D-20260428T184500@VHSDORTMUND
SUMMARY:Aktiv in Dortmund / Alles Inklusive? (26-54052D) 
LOCATION:VHS Kampstraße, Raum E.09, Kampstraße 47, 44137 Dortmund
END:VEVENT
BEGIN:VEVENT
DTSTAMP:20260423T002408
DTSTART;TZID=Europe/Berlin:20260505T184500
DTEND;TZID=Europe/Berlin:20260505T210000
UID:26-54052D-20260505T184500@VHSDORTMUND
SUMMARY:Aktiv in Dortmund / Alles Inklusive? (26-54052D) 
LOCATION:VHS Kampstraße, Raum E.09, Kampstraße 47, 44137 Dortmund
END:VEVENT
BEGIN:VEVENT
DTSTAMP:20260423T002408
DTSTART;TZID=Europe/Berlin:20260512T184500
DTEND;TZID=Europe/Berlin:20260512T210000
UID:26-54052D-20260512T184500@VHSDORTMUND
SUMMARY:Aktiv in Dortmund / Alles Inklusive? (26-54052D) 
LOCATION:VHS Kampstraße, Raum E.09, Kampstraße 47, 44137 Dortmund
END:VEVENT
BEGIN:VEVENT
DTSTAMP:20260423T002408
DTSTART;TZID=Europe/Berlin:20260519T184500
DTEND;TZID=Europe/Berlin:20260519T210000
UID:26-54052D-20260519T184500@VHSDORTMUND
SUMMARY:Aktiv in Dortmund / Alles Inklusive? (26-54052D) 
LOCATION:VHS Kampstraße, Raum E.09, Kampstraße 47, 44137 Dortmund
END:VEVENT
BEGIN:VEVENT
DTSTAMP:20260423T002408
DTSTART;TZID=Europe/Berlin:20260602T184500
DTEND;TZID=Europe/Berlin:20260602T210000
UID:26-54052D-20260602T184500@VHSDORTMUND
SUMMARY:Aktiv in Dortmund / Alles Inklusive? (26-54052D) 
LOCATION:VHS Kampstraße, Raum E.09, Kampstraße 47, 44137 Dortmund
END:VEVENT
BEGIN:VEVENT
DTSTAMP:20260423T002408
DTSTART;TZID=Europe/Berlin:20260609T184500
DTEND;TZID=Europe/Berlin:20260609T210000
UID:26-54052D-20260609T184500@VHSDORTMUND
SUMMARY:Aktiv in Dortmund / Alles Inklusive? (26-54052D) 
LOCATION:VHS Kampstraße, Raum E.09, Kampstraße 47, 44137 Dortmund
END:VEVENT
END:VCALENDAR