BEGIN:VCALENDAR
VERSION:2.0
PRODID:https://www.kufer.de/kuferweb / DE
METHOD:PUBLISH
CALSCALE:GREGORIAN
X-WR-TIMEZONE:Europe/Berlin
BEGIN:VTIMEZONE
TZID:Europe/Berlin
X-LIC-LOCATION:Europe/Berlin
BEGIN:DAYLIGHT
TZOFFSETFROM:+0100
TZOFFSETTO:+0200
TZNAME:CEST
DTSTART:19700329T020000
RRULE:FREQ=YEARLY;INTERVAL=1;BYDAY=-1SU;BYMONTH=3
END:DAYLIGHT
BEGIN:STANDARD
TZOFFSETFROM:+0200
TZOFFSETTO:+0100
TZNAME:CET
DTSTART:19701025T030000
RRULE:FREQ=YEARLY;INTERVAL=1;BYDAY=-1SU;BYMONTH=10
END:STANDARD
END:VTIMEZONE
BEGIN:VEVENT
DTSTAMP:20260425T181102
DTSTART;TZID=Europe/Berlin:20260513T163000
DTEND;TZID=Europe/Berlin:20260513T200000
UID:26-55313-20260513T163000@VHSDORTMUND
SUMMARY:Feierabend-Fahrradtour: Von DO zum Rhein-Herne Kanal & zurück (Stadtradeln '26) (26-55313) 
LOCATION:VHS Kampstraße, Kampstraße 47, 44137 Dortmund
END:VEVENT
END:VCALENDAR