BEGIN:VCALENDAR
VERSION:2.0
PRODID:https://www.kufer.de/kuferweb / DE
METHOD:PUBLISH
CALSCALE:GREGORIAN
X-WR-TIMEZONE:Europe/Berlin
BEGIN:VTIMEZONE
TZID:Europe/Berlin
X-LIC-LOCATION:Europe/Berlin
BEGIN:DAYLIGHT
TZOFFSETFROM:+0100
TZOFFSETTO:+0200
TZNAME:CEST
DTSTART:19700329T020000
RRULE:FREQ=YEARLY;INTERVAL=1;BYDAY=-1SU;BYMONTH=3
END:DAYLIGHT
BEGIN:STANDARD
TZOFFSETFROM:+0200
TZOFFSETTO:+0100
TZNAME:CET
DTSTART:19701025T030000
RRULE:FREQ=YEARLY;INTERVAL=1;BYDAY=-1SU;BYMONTH=10
END:STANDARD
END:VTIMEZONE
BEGIN:VEVENT
DTSTAMP:20260421T125638
DTSTART;TZID=Europe/Berlin:20260424T174500
DTEND;TZID=Europe/Berlin:20260424T191500
UID:26-56016-20260424T174500@VHSDORTMUND
SUMMARY:Schön hier: Wie kann sich Leben auf Planeten entwickeln? (26-56016) 
LOCATION:VHS Kampstraße, Raum E.09, Kampstraße 47, 44137 Dortmund
END:VEVENT
BEGIN:VEVENT
DTSTAMP:20260421T125638
DTSTART;TZID=Europe/Berlin:20260508T174500
DTEND;TZID=Europe/Berlin:20260508T191500
UID:26-56018-20260508T174500@VHSDORTMUND
SUMMARY:Reisende kann man nicht aufhalten: Auf zu anderen Himmelskörpern (26-56018) 
LOCATION:VHS Kampstraße, Raum E.09, Kampstraße 47, 44137 Dortmund
END:VEVENT
BEGIN:VEVENT
DTSTAMP:20260421T125638
DTSTART;TZID=Europe/Berlin:20260522T174500
DTEND;TZID=Europe/Berlin:20260522T191500
UID:26-56020-20260522T174500@VHSDORTMUND
SUMMARY:Es wird voll im Orbit: Probleme mit dem Weltraummüll (26-56020) 
LOCATION:VHS Kampstraße, Raum E.09, Kampstraße 47, 44137 Dortmund
END:VEVENT
END:VCALENDAR