BEGIN:VCALENDAR
VERSION:2.0
PRODID:https://www.kufer.de/kuferweb / DE
METHOD:PUBLISH
CALSCALE:GREGORIAN
X-WR-TIMEZONE:Europe/Berlin
BEGIN:VTIMEZONE
TZID:Europe/Berlin
X-LIC-LOCATION:Europe/Berlin
BEGIN:DAYLIGHT
TZOFFSETFROM:+0100
TZOFFSETTO:+0200
TZNAME:CEST
DTSTART:19700329T020000
RRULE:FREQ=YEARLY;INTERVAL=1;BYDAY=-1SU;BYMONTH=3
END:DAYLIGHT
BEGIN:STANDARD
TZOFFSETFROM:+0200
TZOFFSETTO:+0100
TZNAME:CET
DTSTART:19701025T030000
RRULE:FREQ=YEARLY;INTERVAL=1;BYDAY=-1SU;BYMONTH=10
END:STANDARD
END:VTIMEZONE
BEGIN:VEVENT
DTSTAMP:20260422T224232
DTSTART;TZID=Europe/Berlin:20260508T194500
DTEND;TZID=Europe/Berlin:20260508T204500
UID:26-65332D-20260508T194500@VHSDORTMUND
SUMMARY:Let´s Dance - Kurs für Anfänger*innen (26-65332D) 
LOCATION:VHS Löwenhof, Raum G127b, Hansastr. 2 - 4, 44137 Dortmund
END:VEVENT
BEGIN:VEVENT
DTSTAMP:20260422T224232
DTSTART;TZID=Europe/Berlin:20260515T194500
DTEND;TZID=Europe/Berlin:20260515T204500
UID:26-65332D-20260515T194500@VHSDORTMUND
SUMMARY:Let´s Dance - Kurs für Anfänger*innen (26-65332D) 
LOCATION:VHS Löwenhof, Raum G127b, Hansastr. 2 - 4, 44137 Dortmund
END:VEVENT
BEGIN:VEVENT
DTSTAMP:20260422T224232
DTSTART;TZID=Europe/Berlin:20260522T194500
DTEND;TZID=Europe/Berlin:20260522T204500
UID:26-65332D-20260522T194500@VHSDORTMUND
SUMMARY:Let´s Dance - Kurs für Anfänger*innen (26-65332D) 
LOCATION:VHS Löwenhof, Raum G127b, Hansastr. 2 - 4, 44137 Dortmund
END:VEVENT
BEGIN:VEVENT
DTSTAMP:20260422T224232
DTSTART;TZID=Europe/Berlin:20260612T194500
DTEND;TZID=Europe/Berlin:20260612T204500
UID:26-65332D-20260612T194500@VHSDORTMUND
SUMMARY:Let´s Dance - Kurs für Anfänger*innen (26-65332D) 
LOCATION:VHS Löwenhof, Raum G127b, Hansastr. 2 - 4, 44137 Dortmund
END:VEVENT
BEGIN:VEVENT
DTSTAMP:20260422T224232
DTSTART;TZID=Europe/Berlin:20260619T194500
DTEND;TZID=Europe/Berlin:20260619T204500
UID:26-65332D-20260619T194500@VHSDORTMUND
SUMMARY:Let´s Dance - Kurs für Anfänger*innen (26-65332D) 
LOCATION:VHS Löwenhof, Raum G127b, Hansastr. 2 - 4, 44137 Dortmund
END:VEVENT
BEGIN:VEVENT
DTSTAMP:20260422T224232
DTSTART;TZID=Europe/Berlin:20260626T194500
DTEND;TZID=Europe/Berlin:20260626T204500
UID:26-65332D-20260626T194500@VHSDORTMUND
SUMMARY:Let´s Dance - Kurs für Anfänger*innen (26-65332D) 
LOCATION:VHS Löwenhof, Raum G127b, Hansastr. 2 - 4, 44137 Dortmund
END:VEVENT
BEGIN:VEVENT
DTSTAMP:20260422T224232
DTSTART;TZID=Europe/Berlin:20260703T194500
DTEND;TZID=Europe/Berlin:20260703T204500
UID:26-65332D-20260703T194500@VHSDORTMUND
SUMMARY:Let´s Dance - Kurs für Anfänger*innen (26-65332D) 
LOCATION:VHS Löwenhof, Raum G127b, Hansastr. 2 - 4, 44137 Dortmund
END:VEVENT
BEGIN:VEVENT
DTSTAMP:20260422T224232
DTSTART;TZID=Europe/Berlin:20260710T194500
DTEND;TZID=Europe/Berlin:20260710T204500
UID:26-65332D-20260710T194500@VHSDORTMUND
SUMMARY:Let´s Dance - Kurs für Anfänger*innen (26-65332D) 
LOCATION:VHS Löwenhof, Raum G127b, Hansastr. 2 - 4, 44137 Dortmund
END:VEVENT
BEGIN:VEVENT
DTSTAMP:20260422T224232
DTSTART;TZID=Europe/Berlin:20260717T194500
DTEND;TZID=Europe/Berlin:20260717T204500
UID:26-65332D-20260717T194500@VHSDORTMUND
SUMMARY:Let´s Dance - Kurs für Anfänger*innen (26-65332D) 
LOCATION:VHS Löwenhof, Raum G127b, Hansastr. 2 - 4, 44137 Dortmund
END:VEVENT
END:VCALENDAR