BEGIN:VCALENDAR
VERSION:2.0
PRODID:https://www.kufer.de/kuferweb / DE
METHOD:PUBLISH
CALSCALE:GREGORIAN
X-WR-TIMEZONE:Europe/Berlin
BEGIN:VTIMEZONE
TZID:Europe/Berlin
X-LIC-LOCATION:Europe/Berlin
BEGIN:DAYLIGHT
TZOFFSETFROM:+0100
TZOFFSETTO:+0200
TZNAME:CEST
DTSTART:19700329T020000
RRULE:FREQ=YEARLY;INTERVAL=1;BYDAY=-1SU;BYMONTH=3
END:DAYLIGHT
BEGIN:STANDARD
TZOFFSETFROM:+0200
TZOFFSETTO:+0100
TZNAME:CET
DTSTART:19701025T030000
RRULE:FREQ=YEARLY;INTERVAL=1;BYDAY=-1SU;BYMONTH=10
END:STANDARD
END:VTIMEZONE
BEGIN:VEVENT
DTSTAMP:20260419T170718
DTSTART;TZID=Europe/Berlin:20260414T173000
DTEND;TZID=Europe/Berlin:20260414T190000
UID:26-84131D-20260414T173000@VHSDORTMUND
SUMMARY:Hatha Yoga (26-84131D) 
LOCATION:Creativzentrum, Haus 1, Raum 22a, Oberbank 1, 44149 Dortmund
END:VEVENT
BEGIN:VEVENT
DTSTAMP:20260419T170718
DTSTART;TZID=Europe/Berlin:20260421T173000
DTEND;TZID=Europe/Berlin:20260421T190000
UID:26-84131D-20260421T173000@VHSDORTMUND
SUMMARY:Hatha Yoga (26-84131D) 
LOCATION:Creativzentrum, Haus 1, Raum 22a, Oberbank 1, 44149 Dortmund
END:VEVENT
BEGIN:VEVENT
DTSTAMP:20260419T170718
DTSTART;TZID=Europe/Berlin:20260428T173000
DTEND;TZID=Europe/Berlin:20260428T190000
UID:26-84131D-20260428T173000@VHSDORTMUND
SUMMARY:Hatha Yoga (26-84131D) 
LOCATION:Creativzentrum, Haus 1, Raum 22a, Oberbank 1, 44149 Dortmund
END:VEVENT
BEGIN:VEVENT
DTSTAMP:20260419T170718
DTSTART;TZID=Europe/Berlin:20260505T173000
DTEND;TZID=Europe/Berlin:20260505T190000
UID:26-84131D-20260505T173000@VHSDORTMUND
SUMMARY:Hatha Yoga (26-84131D) 
LOCATION:Creativzentrum, Haus 1, Raum 22a, Oberbank 1, 44149 Dortmund
END:VEVENT
BEGIN:VEVENT
DTSTAMP:20260419T170718
DTSTART;TZID=Europe/Berlin:20260512T173000
DTEND;TZID=Europe/Berlin:20260512T190000
UID:26-84131D-20260512T173000@VHSDORTMUND
SUMMARY:Hatha Yoga (26-84131D) 
LOCATION:Creativzentrum, Haus 1, Raum 22a, Oberbank 1, 44149 Dortmund
END:VEVENT
BEGIN:VEVENT
DTSTAMP:20260419T170718
DTSTART;TZID=Europe/Berlin:20260519T173000
DTEND;TZID=Europe/Berlin:20260519T190000
UID:26-84131D-20260519T173000@VHSDORTMUND
SUMMARY:Hatha Yoga (26-84131D) 
LOCATION:Creativzentrum, Haus 1, Raum 22a, Oberbank 1, 44149 Dortmund
END:VEVENT
END:VCALENDAR