BEGIN:VCALENDAR
VERSION:2.0
PRODID:https://www.kufer.de/kuferweb / DE
METHOD:PUBLISH
CALSCALE:GREGORIAN
X-WR-TIMEZONE:Europe/Berlin
BEGIN:VTIMEZONE
TZID:Europe/Berlin
X-LIC-LOCATION:Europe/Berlin
BEGIN:DAYLIGHT
TZOFFSETFROM:+0100
TZOFFSETTO:+0200
TZNAME:CEST
DTSTART:19700329T020000
RRULE:FREQ=YEARLY;INTERVAL=1;BYDAY=-1SU;BYMONTH=3
END:DAYLIGHT
BEGIN:STANDARD
TZOFFSETFROM:+0200
TZOFFSETTO:+0100
TZNAME:CET
DTSTART:19701025T030000
RRULE:FREQ=YEARLY;INTERVAL=1;BYDAY=-1SU;BYMONTH=10
END:STANDARD
END:VTIMEZONE
BEGIN:VEVENT
DTSTAMP:20260419T155002
DTSTART;TZID=Europe/Berlin:20260421T162000
DTEND;TZID=Europe/Berlin:20260421T173500
UID:26-84403D-20260421T162000@VHSDORTMUND
SUMMARY:Qi Gong (26-84403D) 
LOCATION:Haus Rodenberg, Raum 1.7, Rodenbergstr. 36, 44287 Dortmund
END:VEVENT
BEGIN:VEVENT
DTSTAMP:20260419T155002
DTSTART;TZID=Europe/Berlin:20260505T162000
DTEND;TZID=Europe/Berlin:20260505T173500
UID:26-84403D-20260505T162000@VHSDORTMUND
SUMMARY:Qi Gong (26-84403D) 
LOCATION:Haus Rodenberg, Raum 1.7, Rodenbergstr. 36, 44287 Dortmund
END:VEVENT
BEGIN:VEVENT
DTSTAMP:20260419T155002
DTSTART;TZID=Europe/Berlin:20260519T162000
DTEND;TZID=Europe/Berlin:20260519T173500
UID:26-84403D-20260519T162000@VHSDORTMUND
SUMMARY:Qi Gong (26-84403D) 
LOCATION:Haus Rodenberg, Raum 1.7, Rodenbergstr. 36, 44287 Dortmund
END:VEVENT
BEGIN:VEVENT
DTSTAMP:20260419T155002
DTSTART;TZID=Europe/Berlin:20260602T162000
DTEND;TZID=Europe/Berlin:20260602T173500
UID:26-84403D-20260602T162000@VHSDORTMUND
SUMMARY:Qi Gong (26-84403D) 
LOCATION:Haus Rodenberg, Raum 1.7, Rodenbergstr. 36, 44287 Dortmund
END:VEVENT
BEGIN:VEVENT
DTSTAMP:20260419T155002
DTSTART;TZID=Europe/Berlin:20260616T162000
DTEND;TZID=Europe/Berlin:20260616T173500
UID:26-84403D-20260616T162000@VHSDORTMUND
SUMMARY:Qi Gong (26-84403D) 
LOCATION:Haus Rodenberg, Raum 1.7, Rodenbergstr. 36, 44287 Dortmund
END:VEVENT
BEGIN:VEVENT
DTSTAMP:20260419T155002
DTSTART;TZID=Europe/Berlin:20260630T162000
DTEND;TZID=Europe/Berlin:20260630T173500
UID:26-84403D-20260630T162000@VHSDORTMUND
SUMMARY:Qi Gong (26-84403D) 
LOCATION:Haus Rodenberg, Raum 1.7, Rodenbergstr. 36, 44287 Dortmund
END:VEVENT
END:VCALENDAR