BEGIN:VCALENDAR
VERSION:2.0
PRODID:https://www.kufer.de/kuferweb / DE
METHOD:PUBLISH
CALSCALE:GREGORIAN
X-WR-TIMEZONE:Europe/Berlin
BEGIN:VTIMEZONE
TZID:Europe/Berlin
X-LIC-LOCATION:Europe/Berlin
BEGIN:DAYLIGHT
TZOFFSETFROM:+0100
TZOFFSETTO:+0200
TZNAME:CEST
DTSTART:19700329T020000
RRULE:FREQ=YEARLY;INTERVAL=1;BYDAY=-1SU;BYMONTH=3
END:DAYLIGHT
BEGIN:STANDARD
TZOFFSETFROM:+0200
TZOFFSETTO:+0100
TZNAME:CET
DTSTART:19701025T030000
RRULE:FREQ=YEARLY;INTERVAL=1;BYDAY=-1SU;BYMONTH=10
END:STANDARD
END:VTIMEZONE
BEGIN:VEVENT
DTSTAMP:20260422T202312
DTSTART;TZID=Europe/Berlin:20260506T133000
DTEND;TZID=Europe/Berlin:20260506T143000
UID:26-84471D-20260506T133000@VHSDORTMUND
SUMMARY:Fächer Tai Chi für Anfänger*innen (26-84471D) 
LOCATION:VHS Zentrum Nord, EG Raum 001, Deutsche Straße 10, 44339 Dortmund
END:VEVENT
BEGIN:VEVENT
DTSTAMP:20260422T202312
DTSTART;TZID=Europe/Berlin:20260513T133000
DTEND;TZID=Europe/Berlin:20260513T143000
UID:26-84471D-20260513T133000@VHSDORTMUND
SUMMARY:Fächer Tai Chi für Anfänger*innen (26-84471D) 
LOCATION:VHS Zentrum Nord, EG Raum 001, Deutsche Straße 10, 44339 Dortmund
END:VEVENT
BEGIN:VEVENT
DTSTAMP:20260422T202312
DTSTART;TZID=Europe/Berlin:20260520T133000
DTEND;TZID=Europe/Berlin:20260520T143000
UID:26-84471D-20260520T133000@VHSDORTMUND
SUMMARY:Fächer Tai Chi für Anfänger*innen (26-84471D) 
LOCATION:VHS Zentrum Nord, EG Raum 001, Deutsche Straße 10, 44339 Dortmund
END:VEVENT
BEGIN:VEVENT
DTSTAMP:20260422T202312
DTSTART;TZID=Europe/Berlin:20260527T133000
DTEND;TZID=Europe/Berlin:20260527T143000
UID:26-84471D-20260527T133000@VHSDORTMUND
SUMMARY:Fächer Tai Chi für Anfänger*innen (26-84471D) 
LOCATION:VHS Zentrum Nord, EG Raum 001, Deutsche Straße 10, 44339 Dortmund
END:VEVENT
BEGIN:VEVENT
DTSTAMP:20260422T202312
DTSTART;TZID=Europe/Berlin:20260603T133000
DTEND;TZID=Europe/Berlin:20260603T143000
UID:26-84471D-20260603T133000@VHSDORTMUND
SUMMARY:Fächer Tai Chi für Anfänger*innen (26-84471D) 
LOCATION:VHS Zentrum Nord, EG Raum 001, Deutsche Straße 10, 44339 Dortmund
END:VEVENT
BEGIN:VEVENT
DTSTAMP:20260422T202312
DTSTART;TZID=Europe/Berlin:20260610T133000
DTEND;TZID=Europe/Berlin:20260610T143000
UID:26-84471D-20260610T133000@VHSDORTMUND
SUMMARY:Fächer Tai Chi für Anfänger*innen (26-84471D) 
LOCATION:VHS Zentrum Nord, EG Raum 001, Deutsche Straße 10, 44339 Dortmund
END:VEVENT
BEGIN:VEVENT
DTSTAMP:20260422T202312
DTSTART;TZID=Europe/Berlin:20260617T133000
DTEND;TZID=Europe/Berlin:20260617T143000
UID:26-84471D-20260617T133000@VHSDORTMUND
SUMMARY:Fächer Tai Chi für Anfänger*innen (26-84471D) 
LOCATION:VHS Zentrum Nord, EG Raum 001, Deutsche Straße 10, 44339 Dortmund
END:VEVENT
BEGIN:VEVENT
DTSTAMP:20260422T202312
DTSTART;TZID=Europe/Berlin:20260624T133000
DTEND;TZID=Europe/Berlin:20260624T143000
UID:26-84471D-20260624T133000@VHSDORTMUND
SUMMARY:Fächer Tai Chi für Anfänger*innen (26-84471D) 
LOCATION:VHS Zentrum Nord, EG Raum 001, Deutsche Straße 10, 44339 Dortmund
END:VEVENT
BEGIN:VEVENT
DTSTAMP:20260422T202312
DTSTART;TZID=Europe/Berlin:20260701T133000
DTEND;TZID=Europe/Berlin:20260701T143000
UID:26-84471D-20260701T133000@VHSDORTMUND
SUMMARY:Fächer Tai Chi für Anfänger*innen (26-84471D) 
LOCATION:VHS Zentrum Nord, EG Raum 001, Deutsche Straße 10, 44339 Dortmund
END:VEVENT
BEGIN:VEVENT
DTSTAMP:20260422T202312
DTSTART;TZID=Europe/Berlin:20260708T133000
DTEND;TZID=Europe/Berlin:20260708T143000
UID:26-84471D-20260708T133000@VHSDORTMUND
SUMMARY:Fächer Tai Chi für Anfänger*innen (26-84471D) 
LOCATION:VHS Zentrum Nord, EG Raum 001, Deutsche Straße 10, 44339 Dortmund
END:VEVENT
END:VCALENDAR