BEGIN:VCALENDAR
VERSION:2.0
PRODID:https://www.kufer.de/kuferweb / DE
METHOD:PUBLISH
CALSCALE:GREGORIAN
X-WR-TIMEZONE:Europe/Berlin
BEGIN:VTIMEZONE
TZID:Europe/Berlin
X-LIC-LOCATION:Europe/Berlin
BEGIN:DAYLIGHT
TZOFFSETFROM:+0100
TZOFFSETTO:+0200
TZNAME:CEST
DTSTART:19700329T020000
RRULE:FREQ=YEARLY;INTERVAL=1;BYDAY=-1SU;BYMONTH=3
END:DAYLIGHT
BEGIN:STANDARD
TZOFFSETFROM:+0200
TZOFFSETTO:+0100
TZNAME:CET
DTSTART:19701025T030000
RRULE:FREQ=YEARLY;INTERVAL=1;BYDAY=-1SU;BYMONTH=10
END:STANDARD
END:VTIMEZONE
BEGIN:VEVENT
DTSTAMP:20260423T013544
DTSTART;TZID=Europe/Berlin:20261217T164500
DTEND;TZID=Europe/Berlin:20261217T213000
UID:26-87597D-20261217T164500@VHSDORTMUND
SUMMARY:Ein Abend in Shiraz – Weihnachtliche Genüsse aus Persien (26-87597D) 
LOCATION:Haus Rodenberg, Raum E.2, Schlossküche, Rodenbergstr. 36, 44287 Dortmund
END:VEVENT
END:VCALENDAR